BEGIN:VCALENDAR
VERSION:2.0
PRODID:-//Lush Wine and Spirits - ECPv6.15.20//NONSGML v1.0//EN
CALSCALE:GREGORIAN
METHOD:PUBLISH
X-ORIGINAL-URL:https://lushwineandspirits.com
X-WR-CALDESC:Events for Lush Wine and Spirits
REFRESH-INTERVAL;VALUE=DURATION:PT1H
X-Robots-Tag:noindex
X-PUBLISHED-TTL:PT1H
BEGIN:VTIMEZONE
TZID:UTC
BEGIN:STANDARD
TZOFFSETFROM:+0000
TZOFFSETTO:+0000
TZNAME:UTC
DTSTART:20250101T000000
END:STANDARD
END:VTIMEZONE
BEGIN:VEVENT
DTSTART;TZID=UTC:20260211T080000
DTEND;TZID=UTC:20260211T170000
DTSTAMP:20260422T091739
CREATED:20260211T023911Z
LAST-MODIFIED:20260211T023911Z
UID:10202-1770796800-1770829200@lushwineandspirits.com
SUMMARY:St. Patrick's Day
DESCRIPTION:Happy St. Patty’s! Stock up on beers and Irish whiskey for all your shenanigans.
URL:https://lushwineandspirits.com/event/st-patricks-day-3/
END:VEVENT
BEGIN:VEVENT
DTSTART;VALUE=DATE:20260214
DTEND;VALUE=DATE:20260216
DTSTAMP:20260422T091739
CREATED:20251117T011626Z
LAST-MODIFIED:20251117T011626Z
UID:9730-1771027200-1771199999@lushwineandspirits.com
SUMMARY:Brunch
DESCRIPTION:Join us on the weekend for brunch! Whether you’re craving something sweet or savory\, we’ve got a dish that will blow your tastebuds away.
URL:https://lushwineandspirits.com/event/brunch-24/
END:VEVENT
BEGIN:VEVENT
DTSTART;VALUE=DATE:20260214
DTEND;VALUE=DATE:20260215
DTSTAMP:20260422T091739
CREATED:20251117T015116Z
LAST-MODIFIED:20251117T015116Z
UID:9787-1771027200-1771113599@lushwineandspirits.com
SUMMARY:Valentine's Day
DESCRIPTION:Lush is the perfect place to grab a thoughtful gift for your valentine! From wine to beer\, cheese to caviar\, we’ve got something for everyone.
URL:https://lushwineandspirits.com/event/valentines-day/
END:VEVENT
BEGIN:VEVENT
DTSTART;VALUE=DATE:20260216
DTEND;VALUE=DATE:20260217
DTSTAMP:20260422T091739
CREATED:20251117T013336Z
LAST-MODIFIED:20251117T013336Z
UID:9766-1771200000-1771286399@lushwineandspirits.com
SUMMARY:Monday Munch (Brunch)
DESCRIPTION:Designed with the service industry warriors in mind\, we’re introducing Monday brunch (aka Munch). Mondays at Lush\, we’re serving up all of your favorite brunch dishes (and bloody marys\, mimosas\, and oyster shooters as well). If you can’t let go of the weekend\, this one’s for you.
URL:https://lushwineandspirits.com/event/monday-munch-brunch-47/
END:VEVENT
BEGIN:VEVENT
DTSTART;VALUE=DATE:20260216
DTEND;VALUE=DATE:20260220
DTSTAMP:20260422T091739
CREATED:20251119T034406Z
LAST-MODIFIED:20251119T034406Z
UID:9830-1771200000-1771545599@lushwineandspirits.com
SUMMARY:$1 Oysters - Roscoe Village
DESCRIPTION:A deal you can’t beat… every week Monday-Thursday we’re serving up $1 oysters. Come grab them while supplies last!
URL:https://lushwineandspirits.com/event/1-oysters-roscoe-village-17/
END:VEVENT
BEGIN:VEVENT
DTSTART;VALUE=DATE:20260216
DTEND;VALUE=DATE:20260220
DTSTAMP:20260422T091739
CREATED:20251119T040603Z
LAST-MODIFIED:20251119T040603Z
UID:9846-1771200000-1771545599@lushwineandspirits.com
SUMMARY:$1 Oysters - Roscoe Village
DESCRIPTION:A deal you can’t beat… every week Monday-Thursday we’re serving up $1 oysters. Come grab them while supplies last!
URL:https://lushwineandspirits.com/event/1-oysters-roscoe-village-19/
END:VEVENT
BEGIN:VEVENT
DTSTART;VALUE=DATE:20260218
DTEND;VALUE=DATE:20260219
DTSTAMP:20260422T091739
CREATED:20251117T015241Z
LAST-MODIFIED:20251117T015241Z
UID:9789-1771372800-1771459199@lushwineandspirits.com
SUMMARY:National Drink Wine Day
DESCRIPTION:We drink wine everyday here at Lush\, but sure\, lets devote a holiday to it as well. What better place is there to be on this fine occasion?
URL:https://lushwineandspirits.com/event/national-drink-wine-day/
END:VEVENT
BEGIN:VEVENT
DTSTART;VALUE=DATE:20260218
DTEND;VALUE=DATE:20260223
DTSTAMP:20260422T091739
CREATED:20251119T035511Z
LAST-MODIFIED:20251119T035511Z
UID:9836-1771372800-1771804799@lushwineandspirits.com
SUMMARY:$1 Oysters - West Town
DESCRIPTION:A deal you can’t beat… everyday that we’re open we’re serving up $1 oysters. Come grab them while supplies last!
URL:https://lushwineandspirits.com/event/1-oysters-west-town-2/
END:VEVENT
BEGIN:VEVENT
DTSTART;VALUE=DATE:20260221
DTEND;VALUE=DATE:20260223
DTSTAMP:20260422T091739
CREATED:20251117T011833Z
LAST-MODIFIED:20251117T011833Z
UID:9732-1771632000-1771804799@lushwineandspirits.com
SUMMARY:Brunch
DESCRIPTION:Join us on the weekend for brunch! Whether you’re craving something sweet or savory\, we’ve got a dish that will blow your tastebuds away.
URL:https://lushwineandspirits.com/event/brunch-25/
END:VEVENT
BEGIN:VEVENT
DTSTART;VALUE=DATE:20260223
DTEND;VALUE=DATE:20260224
DTSTAMP:20260422T091739
CREATED:20251117T013432Z
LAST-MODIFIED:20251117T013432Z
UID:9768-1771804800-1771891199@lushwineandspirits.com
SUMMARY:Monday Munch (Brunch)
DESCRIPTION:Designed with the service industry warriors in mind\, we’re introducing Monday brunch (aka Munch). Mondays at Lush\, we’re serving up all of your favorite brunch dishes (and bloody marys\, mimosas\, and oyster shooters as well). If you can’t let go of the weekend\, this one’s for you.
URL:https://lushwineandspirits.com/event/monday-munch-brunch-48/
END:VEVENT
BEGIN:VEVENT
DTSTART;VALUE=DATE:20260223
DTEND;VALUE=DATE:20260227
DTSTAMP:20260422T091739
CREATED:20251119T034502Z
LAST-MODIFIED:20251119T040506Z
UID:9832-1771804800-1772150399@lushwineandspirits.com
SUMMARY:$1 Oysters - Roscoe Village
DESCRIPTION:A deal you can’t beat… every week Monday-Thursday we’re serving up $1 oysters. Come grab them while supplies last!
URL:https://lushwineandspirits.com/event/1-oysters-roscoe-village-18/
END:VEVENT
BEGIN:VEVENT
DTSTART;VALUE=DATE:20260225
DTEND;VALUE=DATE:20260302
DTSTAMP:20260422T091739
CREATED:20260211T022141Z
LAST-MODIFIED:20260211T022141Z
UID:10180-1771977600-1772409599@lushwineandspirits.com
SUMMARY:$1 Oysters - West Town
DESCRIPTION:A deal you can’t beat… everyday that we’re open we’re serving up $1 oysters. Come grab them while supplies last!
URL:https://lushwineandspirits.com/event/1-oysters-west-town-15/
END:VEVENT
BEGIN:VEVENT
DTSTART;VALUE=DATE:20260228
DTEND;VALUE=DATE:20260302
DTSTAMP:20260422T091739
CREATED:20251117T011917Z
LAST-MODIFIED:20251117T011917Z
UID:9734-1772236800-1772409599@lushwineandspirits.com
SUMMARY:Brunch
DESCRIPTION:Join us on the weekend for brunch! Whether you’re craving something sweet or savory\, we’ve got a dish that will blow your tastebuds away.
URL:https://lushwineandspirits.com/event/brunch-26/
END:VEVENT
BEGIN:VEVENT
DTSTART;VALUE=DATE:20260302
DTEND;VALUE=DATE:20260303
DTSTAMP:20260422T091739
CREATED:20260211T015338Z
LAST-MODIFIED:20260211T015338Z
UID:10140-1772409600-1772495999@lushwineandspirits.com
SUMMARY:Monday Munch (Brunch)
DESCRIPTION:Designed with the service industry warriors in mind\, we’re introducing Monday brunch (aka Munch). Mondays at Lush\, we’re serving up all of your favorite brunch dishes (and bloody marys\, mimosas\, and oyster shooters as well). If you can’t let go of the weekend\, this one’s for you.
URL:https://lushwineandspirits.com/event/monday-munch-brunch-49/
END:VEVENT
BEGIN:VEVENT
DTSTART;VALUE=DATE:20260302
DTEND;VALUE=DATE:20260306
DTSTAMP:20260422T091739
CREATED:20260211T020950Z
LAST-MODIFIED:20260211T020950Z
UID:10160-1772409600-1772755199@lushwineandspirits.com
SUMMARY:$1 Oysters - Roscoe Village
DESCRIPTION:A deal you can’t beat… every week Monday-Thursday we’re serving up $1 oysters. Come grab them while supplies last!
URL:https://lushwineandspirits.com/event/1-oysters-roscoe-village-20/
END:VEVENT
BEGIN:VEVENT
DTSTART;VALUE=DATE:20260304
DTEND;VALUE=DATE:20260309
DTSTAMP:20260422T091739
CREATED:20260211T022248Z
LAST-MODIFIED:20260211T022248Z
UID:10182-1772582400-1773014399@lushwineandspirits.com
SUMMARY:$1 Oysters - West Town
DESCRIPTION:A deal you can’t beat… everyday that we’re open we’re serving up $1 oysters. Come grab them while supplies last!
URL:https://lushwineandspirits.com/event/1-oysters-west-town-16/
END:VEVENT
BEGIN:VEVENT
DTSTART;VALUE=DATE:20260307
DTEND;VALUE=DATE:20260309
DTSTAMP:20260422T091739
CREATED:20260211T014424Z
LAST-MODIFIED:20260211T014424Z
UID:10122-1772841600-1773014399@lushwineandspirits.com
SUMMARY:Brunch
DESCRIPTION:Join us on the weekend for brunch! Whether you’re craving something sweet or savory\, we’ve got a dish that will blow your tastebuds away.
URL:https://lushwineandspirits.com/event/brunch-27/
END:VEVENT
BEGIN:VEVENT
DTSTART;VALUE=DATE:20260308
DTEND;VALUE=DATE:20260309
DTSTAMP:20260422T091739
CREATED:20260211T023711Z
LAST-MODIFIED:20260211T024210Z
UID:10200-1772928000-1773014399@lushwineandspirits.com
SUMMARY:International Women's Day
DESCRIPTION:Try one of our many wines made by a female winemaker and share with your girlfriends!
URL:https://lushwineandspirits.com/event/international-womens-day/
END:VEVENT
BEGIN:VEVENT
DTSTART;VALUE=DATE:20260309
DTEND;VALUE=DATE:20260310
DTSTAMP:20260422T091739
CREATED:20260211T015436Z
LAST-MODIFIED:20260211T015436Z
UID:10142-1773014400-1773100799@lushwineandspirits.com
SUMMARY:Monday Munch (Brunch)
DESCRIPTION:Designed with the service industry warriors in mind\, we’re introducing Monday brunch (aka Munch). Mondays at Lush\, we’re serving up all of your favorite brunch dishes (and bloody marys\, mimosas\, and oyster shooters as well). If you can’t let go of the weekend\, this one’s for you.
URL:https://lushwineandspirits.com/event/monday-munch-brunch-50/
END:VEVENT
BEGIN:VEVENT
DTSTART;VALUE=DATE:20260309
DTEND;VALUE=DATE:20260313
DTSTAMP:20260422T091739
CREATED:20260211T021044Z
LAST-MODIFIED:20260211T021044Z
UID:10162-1773014400-1773359999@lushwineandspirits.com
SUMMARY:$1 Oysters - Roscoe Village
DESCRIPTION:A deal you can’t beat… every week Monday-Thursday we’re serving up $1 oysters. Come grab them while supplies last!
URL:https://lushwineandspirits.com/event/1-oysters-roscoe-village-21/
END:VEVENT
BEGIN:VEVENT
DTSTART;VALUE=DATE:20260311
DTEND;VALUE=DATE:20260316
DTSTAMP:20260422T091739
CREATED:20260211T022348Z
LAST-MODIFIED:20260211T022348Z
UID:10184-1773187200-1773619199@lushwineandspirits.com
SUMMARY:$1 Oysters - West Town
DESCRIPTION:A deal you can’t beat… everyday that we’re open we’re serving up $1 oysters. Come grab them while supplies last!
URL:https://lushwineandspirits.com/event/1-oysters-west-town-17/
END:VEVENT
BEGIN:VEVENT
DTSTART;VALUE=DATE:20260314
DTEND;VALUE=DATE:20260316
DTSTAMP:20260422T091739
CREATED:20260211T014525Z
LAST-MODIFIED:20260211T014525Z
UID:10124-1773446400-1773619199@lushwineandspirits.com
SUMMARY:Brunch
DESCRIPTION:Join us on the weekend for brunch! Whether you’re craving something sweet or savory\, we’ve got a dish that will blow your tastebuds away.
URL:https://lushwineandspirits.com/event/brunch-28/
END:VEVENT
BEGIN:VEVENT
DTSTART;VALUE=DATE:20260316
DTEND;VALUE=DATE:20260317
DTSTAMP:20260422T091739
CREATED:20260211T015537Z
LAST-MODIFIED:20260211T015537Z
UID:10144-1773619200-1773705599@lushwineandspirits.com
SUMMARY:Monday Munch (Brunch)
DESCRIPTION:Designed with the service industry warriors in mind\, we’re introducing Monday brunch (aka Munch). Mondays at Lush\, we’re serving up all of your favorite brunch dishes (and bloody marys\, mimosas\, and oyster shooters as well). If you can’t let go of the weekend\, this one’s for you.
URL:https://lushwineandspirits.com/event/monday-munch-brunch-51/
END:VEVENT
BEGIN:VEVENT
DTSTART;VALUE=DATE:20260316
DTEND;VALUE=DATE:20260320
DTSTAMP:20260422T091739
CREATED:20260211T021136Z
LAST-MODIFIED:20260211T021136Z
UID:10164-1773619200-1773964799@lushwineandspirits.com
SUMMARY:$1 Oysters - Roscoe Village
DESCRIPTION:A deal you can’t beat… every week Monday-Thursday we’re serving up $1 oysters. Come grab them while supplies last!
URL:https://lushwineandspirits.com/event/1-oysters-roscoe-village-22/
END:VEVENT
BEGIN:VEVENT
DTSTART;VALUE=DATE:20260318
DTEND;VALUE=DATE:20260323
DTSTAMP:20260422T091739
CREATED:20260211T022757Z
LAST-MODIFIED:20260211T022757Z
UID:10186-1773792000-1774223999@lushwineandspirits.com
SUMMARY:$1 Oysters - West Town
DESCRIPTION:A deal you can’t beat… everyday that we’re open we’re serving up $1 oysters. Come grab them while supplies last!
URL:https://lushwineandspirits.com/event/1-oysters-west-town-18/
END:VEVENT
BEGIN:VEVENT
DTSTART;VALUE=DATE:20260320
DTEND;VALUE=DATE:20260321
DTSTAMP:20260422T091739
CREATED:20260211T024128Z
LAST-MODIFIED:20260211T024128Z
UID:10204-1773964800-1774051199@lushwineandspirits.com
SUMMARY:First Day of Spring (Spring Equinox)
DESCRIPTION:Finally\, Winter is over! Time to stock up on rosé and prepare for patio season.
URL:https://lushwineandspirits.com/event/first-day-of-spring-spring-equinox/
END:VEVENT
BEGIN:VEVENT
DTSTART;VALUE=DATE:20260321
DTEND;VALUE=DATE:20260323
DTSTAMP:20260422T091739
CREATED:20260211T014631Z
LAST-MODIFIED:20260211T014631Z
UID:10126-1774051200-1774223999@lushwineandspirits.com
SUMMARY:Brunch
DESCRIPTION:Join us on the weekend for brunch! Whether you’re craving something sweet or savory\, we’ve got a dish that will blow your tastebuds away.
URL:https://lushwineandspirits.com/event/brunch-29/
END:VEVENT
BEGIN:VEVENT
DTSTART;VALUE=DATE:20260323
DTEND;VALUE=DATE:20260324
DTSTAMP:20260422T091739
CREATED:20260211T015748Z
LAST-MODIFIED:20260211T015748Z
UID:10146-1774224000-1774310399@lushwineandspirits.com
SUMMARY:Monday Munch (Brunch)
DESCRIPTION:Designed with the service industry warriors in mind\, we’re introducing Monday brunch (aka Munch). Mondays at Lush\, we’re serving up all of your favorite brunch dishes (and bloody marys\, mimosas\, and oyster shooters as well). If you can’t let go of the weekend\, this one’s for you.
URL:https://lushwineandspirits.com/event/monday-munch-brunch-52/
END:VEVENT
BEGIN:VEVENT
DTSTART;VALUE=DATE:20260323
DTEND;VALUE=DATE:20260327
DTSTAMP:20260422T091739
CREATED:20260211T021407Z
LAST-MODIFIED:20260211T021407Z
UID:10166-1774224000-1774569599@lushwineandspirits.com
SUMMARY:$1 Oysters - Roscoe Village
DESCRIPTION:A deal you can’t beat… every week Monday-Thursday we’re serving up $1 oysters. Come grab them while supplies last!
URL:https://lushwineandspirits.com/event/1-oysters-roscoe-village-23/
END:VEVENT
BEGIN:VEVENT
DTSTART;VALUE=DATE:20260325
DTEND;VALUE=DATE:20260330
DTSTAMP:20260422T091739
CREATED:20260211T022929Z
LAST-MODIFIED:20260211T022929Z
UID:10188-1774396800-1774828799@lushwineandspirits.com
SUMMARY:$1 Oysters - West Town
DESCRIPTION:A deal you can’t beat… everyday that we’re open we’re serving up $1 oysters. Come grab them while supplies last!
URL:https://lushwineandspirits.com/event/1-oysters-west-town-19/
END:VEVENT
END:VCALENDAR